BEGIN:VCALENDAR
VERSION:2.0
PRODID:-//Living Well - ECPv6.15.19//NONSGML v1.0//EN
CALSCALE:GREGORIAN
METHOD:PUBLISH
X-ORIGINAL-URL:https://livingwelltyler.com
X-WR-CALDESC:Events for Living Well
REFRESH-INTERVAL;VALUE=DURATION:PT1H
X-Robots-Tag:noindex
X-PUBLISHED-TTL:PT1H
BEGIN:VTIMEZONE
TZID:America/Chicago
BEGIN:DAYLIGHT
TZOFFSETFROM:-0600
TZOFFSETTO:-0500
TZNAME:CDT
DTSTART:20250309T080000
END:DAYLIGHT
BEGIN:STANDARD
TZOFFSETFROM:-0500
TZOFFSETTO:-0600
TZNAME:CST
DTSTART:20251102T070000
END:STANDARD
BEGIN:DAYLIGHT
TZOFFSETFROM:-0600
TZOFFSETTO:-0500
TZNAME:CDT
DTSTART:20260308T080000
END:DAYLIGHT
BEGIN:STANDARD
TZOFFSETFROM:-0500
TZOFFSETTO:-0600
TZNAME:CST
DTSTART:20261101T070000
END:STANDARD
BEGIN:DAYLIGHT
TZOFFSETFROM:-0600
TZOFFSETTO:-0500
TZNAME:CDT
DTSTART:20270314T080000
END:DAYLIGHT
BEGIN:STANDARD
TZOFFSETFROM:-0500
TZOFFSETTO:-0600
TZNAME:CST
DTSTART:20271107T070000
END:STANDARD
END:VTIMEZONE
BEGIN:VEVENT
DTSTART;TZID=America/Chicago:20260105T123000
DTEND;TZID=America/Chicago:20260518T143000
DTSTAMP:20260422T142103
CREATED:20251128T191559Z
LAST-MODIFIED:20251205T233327Z
UID:10000597-1767616200-1779114600@livingwelltyler.com
SUMMARY:Conquering Codependency MONDAYS
DESCRIPTION:Conquering Codependency is a Christ-centered\, 19-week group coaching experience designed to help you break free from unhealthy relationship patterns and reclaim emotional\, spiritual\, and personal wholeness. Using Conquering Codependency: A Christ-Centered 12-Step Process by Pat Springle\, this group provides biblical guidance\, practical tools\, and supportive community as you learn to stop over-functioning for others and start living with healthy boundaries\, confidence\, and clarity. \nLed by Jennifer Carson\, this transformative program helps you strengthen your walk with God\, understand your identity in Christ\, and build healthier ways of relating to yourself and the people you love. \nTwo sessions begin in January:\nMondays\, Jan 5–May 18 or Wednesdays\, Jan 7–May 20 \nTime: 12:30–2:30 PMCost: $760 total | Weekly payment plan: $40/week\nRegistration is required.
URL:https://livingwelltyler.com/event/conquering-codependency-christ-centered-group/
LOCATION:Living Well\, 16911 County Rd 122\, Tyler\, TX\, 75703\, United States
CATEGORIES:Seasonal Groups
ATTACH;FMTTYPE=image/webp:https://livingwelltyler.com/wp-content/uploads/2025/11/Conquering-Codependency-2026-1.webp
END:VEVENT
BEGIN:VEVENT
DTSTART;TZID=America/Chicago:20260106T140000
DTEND;TZID=America/Chicago:20260519T160000
DTSTAMP:20260422T142103
CREATED:20251112T161235Z
LAST-MODIFIED:20251128T193413Z
UID:10000598-1767708000-1779206400@livingwelltyler.com
SUMMARY:Hiding From Love
DESCRIPTION:Many of us are hiding from the love God intends for us to experience. Through reading and processing John Townsend’s Hiding From Love\, you’ll discover how to change the withdrawal patterns that isolate and imprison you and take the developmental steps necessary to restore the Image of God within you. \nWhen emotional injury\, fear\, or shame causes us to hide\, we cut ourselves off from the connection and intimacy that bring healing and growth. This group offers a safe\, guided environment to explore your hiding patterns and learn how to open yourself to God’s grace and the love of others. \nJoin Wellness Coach Jennifer Carson for this transformative journey toward emotional healing\, connection\, and spiritual wholeness. \nYou’ll explore:\nWhy we hide the broken parts of ourselves\nHow to experience grace and truth in safe relationships\nThe difference between healthy and unhealthy hiding\nHow to be free to make mistakes without fear of rejection \nRegistration is required.
URL:https://livingwelltyler.com/event/hiding-from-love-book-study/
LOCATION:Living Well\, 16911 County Rd 122\, Tyler\, TX\, 75703\, United States
CATEGORIES:Seasonal Groups
ATTACH;FMTTYPE=image/webp:https://livingwelltyler.com/wp-content/uploads/2025/11/Hiding-From-Love.webp
END:VEVENT
BEGIN:VEVENT
DTSTART;TZID=America/Chicago:20260107T120000
DTEND;TZID=America/Chicago:20260520T140000
DTSTAMP:20260422T142103
CREATED:20251128T192113Z
LAST-MODIFIED:20251205T233244Z
UID:10000601-1767787200-1779285600@livingwelltyler.com
SUMMARY:Conquering Codependency WEDNESDAYS
DESCRIPTION:Conquering Codependency is a Christ-centered\, 19-week group coaching experience designed to help you break free from unhealthy relationship patterns and reclaim emotional\, spiritual\, and personal wholeness. Using Conquering Codependency: A Christ-Centered 12-Step Process by Pat Springle\, this group provides biblical guidance\, practical tools\, and supportive community as you learn to stop over-functioning for others and start living with healthy boundaries\, confidence\, and clarity. \nLed by Jennifer Carson\, this transformative program helps you strengthen your walk with God\, understand your identity in Christ\, and build healthier ways of relating to yourself and the people you love. \nTwo sessions begin in January:\nMondays\, Jan 5–May 18 or Wednesdays\, Jan 7–May 20 \nTime: 12:00–2:00 PMCost: $760 total | Weekly payment plan: $40/week\nRegistration is required.
URL:https://livingwelltyler.com/event/conquering-codependency-christ-centered-group-2/
LOCATION:Living Well\, 16911 County Rd 122\, Tyler\, TX\, 75703\, United States
CATEGORIES:Seasonal Groups
ATTACH;FMTTYPE=image/webp:https://livingwelltyler.com/wp-content/uploads/2025/11/Conquering-Codependency-2026-1-2.webp
END:VEVENT
BEGIN:VEVENT
DTSTART;TZID=America/Chicago:20260204T150000
DTEND;TZID=America/Chicago:20260429T170000
DTSTAMP:20260422T142103
CREATED:20251205T232917Z
LAST-MODIFIED:20251205T232917Z
UID:10000604-1770217200-1777482000@livingwelltyler.com
SUMMARY:Reconciling our Grief: Befriending the 6 needs of mourning
DESCRIPTION:Grief reshapes life in profound ways\, and navigating the “before” and “after” can feel overwhelming. Reconciling Our Grief: Befriending the 6 Needs of Mourning is a supportive group led by Jennifer Carson that helps participants understand and engage with the six universal needs of mourning. In community\, you’ll learn how intentional grief work can move you toward healing—not by rushing the process\, but by giving you tools to honor your loss\, express your emotions\, and reconnect with purpose. \nThrough guided reflection\, compassionate discussion\, and practical next steps\, this group empowers you to take an active role in your grief journey. The six needs of mourning offer a meaningful framework that\, over time\, can become transformative—helping you not only survive the pain of loss\, but slowly begin to thrive again. \nTime: 3:00–5:00 PMCost: $650 total | Weekly payment plan: $50/week for 13 weeks\nRegistration is required.
URL:https://livingwelltyler.com/event/reconciling-our-grief-group/
LOCATION:Living Well\, 16911 County Rd 122\, Tyler\, TX\, 75703\, United States
CATEGORIES:Seasonal Groups
ATTACH;FMTTYPE=image/webp:https://livingwelltyler.com/wp-content/uploads/2025/12/Reconciling-Our-Grief-2026.webp
END:VEVENT
BEGIN:VEVENT
DTSTART;TZID=America/Chicago:20260425T100000
DTEND;TZID=America/Chicago:20260425T140000
DTSTAMP:20260422T142103
CREATED:20260318T224112Z
LAST-MODIFIED:20260318T224540Z
UID:10000609-1777111200-1777125600@livingwelltyler.com
SUMMARY:Breathe In: A Silent Retreat
DESCRIPTION:Take time this spring to step away from the busyness of life and enter a sacred space of quiet and reflection at Breathe In: A Silent Retreat in Tyler\, TX. This guided experience offers the opportunity to slow down\, breathe deeply\, and reconnect with God in a meaningful way. Led by Soul Care Director Kim Prothro\, the Breathe In silent retreat Tyler TX is designed to restore your soul and renew your spirit in a new season. \nDuring this four-hour experience\, you’ll be invited to rest in silence\, practice mindful reflection\, and cultivate inner stillness. The day will include guided moments of prayer\, journaling\, and peaceful solitude\, allowing you to listen for God’s quiet voice and find calm in His presence. Whether you are new to the practice of silence or familiar with spiritual retreats\, this day is meant to help you pause\, be still\, and simply be. \nIn a world that constantly demands more of our attention\, Breathe In: A Silent Retreat provides a much-needed opportunity to reconnect with yourself and with God. Participants often leave feeling refreshed\, grounded\, and spiritually renewed. \nSaturday\, April 25 | 10:00 AM–2:00 PMCost: $120Location: Living Well Holistic Counseling and Wellness\, Tyler\, TX \nRegistration is required to attend this event.
URL:https://livingwelltyler.com/event/breathe-in-silent-retreat-april-tyler/
LOCATION:Living Well\, 16911 County Rd 122\, Tyler\, TX\, 75703\, United States
CATEGORIES:Special Events
ATTACH;FMTTYPE=image/webp:https://livingwelltyler.com/wp-content/uploads/2026/03/Breathe-In-Silent-Retreat-Spring-2026.webp
END:VEVENT
END:VCALENDAR